BEGIN:VCALENDAR
VERSION:2.0
PRODID:-//Lincolnia United Methodist Church - ECPv6.15.20//NONSGML v1.0//EN
CALSCALE:GREGORIAN
METHOD:PUBLISH
X-WR-CALNAME:Lincolnia United Methodist Church
X-ORIGINAL-URL:https://lincolniaumc.org
X-WR-CALDESC:Events for Lincolnia United Methodist Church
REFRESH-INTERVAL;VALUE=DURATION:PT1H
X-Robots-Tag:noindex
X-PUBLISHED-TTL:PT1H
BEGIN:VTIMEZONE
TZID:America/Halifax
BEGIN:DAYLIGHT
TZOFFSETFROM:-0400
TZOFFSETTO:-0300
TZNAME:ADT
DTSTART:20210314T060000
END:DAYLIGHT
BEGIN:STANDARD
TZOFFSETFROM:-0300
TZOFFSETTO:-0400
TZNAME:AST
DTSTART:20211107T050000
END:STANDARD
BEGIN:DAYLIGHT
TZOFFSETFROM:-0400
TZOFFSETTO:-0300
TZNAME:ADT
DTSTART:20220313T060000
END:DAYLIGHT
BEGIN:STANDARD
TZOFFSETFROM:-0300
TZOFFSETTO:-0400
TZNAME:AST
DTSTART:20221106T050000
END:STANDARD
BEGIN:DAYLIGHT
TZOFFSETFROM:-0400
TZOFFSETTO:-0300
TZNAME:ADT
DTSTART:20230312T060000
END:DAYLIGHT
BEGIN:STANDARD
TZOFFSETFROM:-0300
TZOFFSETTO:-0400
TZNAME:AST
DTSTART:20231105T050000
END:STANDARD
END:VTIMEZONE
BEGIN:VEVENT
DTSTART;TZID=America/Halifax:20221225T110000
DTEND;TZID=America/Halifax:20221225T133000
DTSTAMP:20260422T154314
CREATED:20221223T190944Z
LAST-MODIFIED:20221223T190944Z
UID:28624-1671966000-1671975000@lincolniaumc.org
SUMMARY:Holy Communion
DESCRIPTION:
URL:https://lincolniaumc.org/event/holy-communion-4/
END:VEVENT
BEGIN:VEVENT
DTSTART;TZID=America/Halifax:20221225T110000
DTEND;TZID=America/Halifax:20221225T133000
DTSTAMP:20260422T154314
CREATED:20221223T190711Z
LAST-MODIFIED:20221223T190711Z
UID:28626-1671966000-1671975000@lincolniaumc.org
SUMMARY:Christmas Day Service
DESCRIPTION:
URL:https://lincolniaumc.org/event/christmas-day-service/
END:VEVENT
BEGIN:VEVENT
DTSTART;TZID=America/Halifax:20220925T110000
DTEND;TZID=America/Halifax:20220925T123000
DTSTAMP:20260422T154314
CREATED:20220819T161659Z
LAST-MODIFIED:20220819T161659Z
UID:28558-1664103600-1664109000@lincolniaumc.org
SUMMARY:Holy Communion
DESCRIPTION:
URL:https://lincolniaumc.org/event/holy-communion-3/
LOCATION:Lincolnia United Methodist Church\, 6335 Little River Turnpike\, Alexandria\, VA\, 22312
END:VEVENT
BEGIN:VEVENT
DTSTART;TZID=America/Halifax:20220911T110000
DTEND;TZID=America/Halifax:20220911T123000
DTSTAMP:20260422T154314
CREATED:20220819T155047Z
LAST-MODIFIED:20220819T161443Z
UID:28549-1662894000-1662899400@lincolniaumc.org
SUMMARY:Women's Fellowship Thanksgiving Service
DESCRIPTION:
URL:https://lincolniaumc.org/event/womens-fellowship-thanksgiving-service/
LOCATION:Lincolnia United Methodist Church\, 6335 Little River Turnpike\, Alexandria\, VA\, 22312
END:VEVENT
BEGIN:VEVENT
DTSTART;TZID=America/Halifax:20220904T110000
DTEND;TZID=America/Halifax:20220904T123000
DTSTAMP:20260422T154314
CREATED:20220819T161352Z
LAST-MODIFIED:20220819T161352Z
UID:28556-1662289200-1662294600@lincolniaumc.org
SUMMARY:Holy Communion
DESCRIPTION:
URL:https://lincolniaumc.org/event/holy-communion-2/
LOCATION:Lincolnia United Methodist Church\, 6335 Little River Turnpike\, Alexandria\, VA\, 22312
END:VEVENT
BEGIN:VEVENT
DTSTART;TZID=America/Halifax:20220828T110000
DTEND;TZID=America/Halifax:20220828T123000
DTSTAMP:20260422T154314
CREATED:20220819T160048Z
LAST-MODIFIED:20220819T160048Z
UID:28552-1661684400-1661689800@lincolniaumc.org
SUMMARY:Holy Communion
DESCRIPTION:
URL:https://lincolniaumc.org/event/holy-communion/
LOCATION:Lincolnia United Methodist Church\, 6335 Little River Turnpike\, Alexandria\, VA\, 22312
END:VEVENT
BEGIN:VEVENT
DTSTART;TZID=America/Halifax:20220731T110000
DTEND;TZID=America/Halifax:20220731T110000
DTSTAMP:20260422T154314
CREATED:20220726T165623Z
LAST-MODIFIED:20220726T165623Z
UID:28142-1659265200-1659265200@lincolniaumc.org
SUMMARY:Sunday Worship
DESCRIPTION:
URL:https://lincolniaumc.org/event/sunday-worship/
END:VEVENT
END:VCALENDAR